BEGIN:VCALENDAR
VERSION:2.0
PRODID:-//eventon.com NONSGML v1.0//EN
CALSCALE:GREGORIAN
METHOD:PUBLISH
BEGIN:VEVENT
UID:69e5ff43be1a3
DTSTAMP:20260420T102611Z
DTSTART:20260304T202200Z
DTEND:20260304T202200Z
LOCATION:
SUMMARY:Musikquiz mit LIVE-Piano
DESCRIPTION:Freitag 13.3.26 19.00 h 🎹 Musikquiz mit LIVE-Piano 🎶 Test
 e dein Musik-Wissen – ganz anders! Erkennst du Songs nur an Melodien und 
 Akkorden? Kannst du sie aus einem kleinen Ausschnitt erraten? Dann schnapp 
 dir Freunde oder Familie und meldet euch an! Der Piano-Mann des Nordens&nbs
 p;Matthias Monka&nbsp;und Moderator&nbsp;Jan Schütz&nbsp;führen euch durc
 h[..]\nhttps://alpsray.de/events/musikquiz-mit-live-piano/
URL:https://alpsray.de/events/musikquiz-mit-live-piano/
END:VEVENT
END:VCALENDAR